BEGIN:VCALENDAR
VERSION:2.0
PRODID:-//SUGSA - ECPv6.15.12.2//NONSGML v1.0//EN
CALSCALE:GREGORIAN
METHOD:PUBLISH
X-WR-CALNAME:SUGSA
X-ORIGINAL-URL:https://sugsa.org.za
X-WR-CALDESC:Events for SUGSA
REFRESH-INTERVAL;VALUE=DURATION:PT1H
X-Robots-Tag:noindex
X-PUBLISHED-TTL:PT1H
BEGIN:VTIMEZONE
TZID:Africa/Johannesburg
BEGIN:STANDARD
TZOFFSETFROM:+0200
TZOFFSETTO:+0200
TZNAME:SAST
DTSTART:20240101T000000
END:STANDARD
END:VTIMEZONE
BEGIN:VEVENT
DTSTART;VALUE=DATE:20250313
DTEND;VALUE=DATE:20250315
DTSTAMP:20260422T140718
CREATED:20241002T181424Z
LAST-MODIFIED:20250228T104544Z
UID:32552-1741824000-1741996799@sugsa.org.za
SUMMARY:Regional Scrum Gathering® South Africa 2025
DESCRIPTION:
URL:https://sugsa.org.za/event/regional-scrum-gathering-south-africa-2025/
LOCATION:Lagoon Beach Hotel\, 1 Lagoon Gate Drive\, Milnerton\, Cape Town\, Western Cape\, 7441\, South Africa
CATEGORIES:Regional Scrum Gathering®
ATTACH;FMTTYPE=image/png:https://sugsa.org.za/wp-content/uploads/2024/10/SGZA25-Event-Cover-Image.png
ORGANIZER;CN="SUGSA":MAILTO:info@sugsa.org.za
END:VEVENT
END:VCALENDAR